Workbook

Sheet Handling calculator
B1: Operations 24/7:
B2: ops@da-vinci.aero | da-vinci.aero
B3: tel: +39 010 984 8079; +39 010 984 78 41
B4: HANDLING CALCULATOR
A5: PLEASE FILL IN YELLOW BOXES TO GET THE PRICE
A6: FLIGHT INFO
A7: aircraft MTOW | B7: 23995 | C7: kgs | D7: TOTAL GH COST:
A8: aircraft capacity | B8: 12 | C8: seats | D8: =E94 -> 1102.332
A9: Flight type | B9: commercial
A10: Aircraft type | B10: narrow | C10: body
A11: SCHEDULE
B12: from | C12: to | D12: ARR time | E12: ARR date
A13: INBOUND (ARR) | B13: LFMN | C13: LIMJ | D13: 0.29166667 | E13: 44835
B14: DEP time | C14: DEP date | D14: From | E14: To
A15: OUTBOUND (DEP) | B15: 0.375 | C15: 44835 | D15: LIMJ | E15: EVRA
A16: PAX INFO
B17: ADL (12+) | C17: CHD (2-11,99) | D17: INF (0-1,99)
A18: inbound passengers (ARR) | B18: 0 | C18: 0 | D18: 0
A19: outbound passengers (DEP) | B19: 0 | C19: 0 | D19: 0
A20: Charge | B20: Unit Price | C20: Unit of measure | D20: Quantity | E20: Amount
A21: BASIC CHARGES
A22: Landing charge 1st 25 tones | B22: =IF($B$9="private",IF(AND(MONTH($C$15)>=6,MONTH($C$15)<=9,MONTH($E$13)>=6,MONTH($E$13)<=9,$B$9="private"),8.72,IF(AND(MONTH($C$15)<6,MONTH($E$13)<6,$B$9="private"),6.96,IF(AND(MONTH($C$15)>9,MONTH($E$13)>9,$B$9="private"),6.96,7.84))),IF(AND(MONTH($C$15)>=6,MONTH($C$15)<=9,MONTH($E$13)>=6,MONTH($E$13)<=9,$B$9="commercial"),4.36,IF(AND(MONTH($C$15)<6,MONTH($E$13)<6,$B$9="commercial"),3.48,IF(AND(MONTH($C$15)>9,MONTH($E$13)>9,$B$9="commercial"),3.48,3.92)))) -> 3.48 | C22: per tone of MTOW | D22: =IF(ROUNDUP(B7/1000,0)>=25,25,ROUNDUP(B7/1000,0)) -> 24 | E22: =B22*D22 -> 83.52
A23: Landing charge over 25 tones | B23: =IF(D24<=25,0,IF(B22=4.36,5.88,IF(B22=8.72,11.76,IF(B22=3.48,4.7,IF(B22=6.96,9.4,IF(B22=3.92,5.29,10.58)))))) -> 0 | C23: per tone of MTOW | D23: =IF(ROUNDUP(B7/1000,0)<=25,0,ROUNDUP(B7/1000,0)-25) -> 0 | E23: =B23*D23 -> 0
A24: Landing charge | B24: =E24/D24 -> 3.48 | C24: per tone of MTOW | D24: =ROUNDUP(B$7/1000, 0) -> 24 | E24: =E22+E23 -> 83.52
A25: Parking charge (1st 2 hours for free) | B25: =0.11*ROUNDUP(B7/1000,0) -> 2.64 | C25: per hour | D25: =IF(((C15-E13)*24+(B15-D13)*24)<=2,0,ROUNDUP(((C15-E13)*24+(B15-D13)*24),0)-2) -> 0 | E25: =B25*D25 -> 0
A26: Supervision fee | B26: 250 | C26: per turnaround | D26: 1 | E26: =B26*D26 -> 250
A27: Communication charge | B27: 25 | C27: per turnaround | D27: 1 | E27: =B27*D27 -> 25
A28: PASSENGER CHARGES AND SERVICES
A29: Security charge PAX | B29: 2.67 | C29: per dep pax | D29: =B19+C19 -> 0 | E29: =B29*D29 -> 0
A30: Security charge Baggage | B30: 2.19 | C30: per dep pax | D30: =B19+C19 -> 0 | E30: =B30*D30 -> 0
A31: PRM Charge | B31: 1.77 | C31: per dep pax | D31: =B19+C19 -> 0 | E31: =B31*D31 -> 0
A32: PAX charge ADL | B32: 13.92 | C32: per dep pax | D32: =B$19 -> 0 | E32: =B32*D32 -> 0
A33: PAX charge CHD | B33: 6.96 | C33: per dep pax | D33: =C$19 -> 0 | E33: =B33*D33 -> 0
A34: Council city tax | B34: 6.5 | C34: per dep pax | D34: =B$19+C$19 -> 0 | E34: =B34*D34 -> 0
A35: Lounge service charge | B35: 100 | C35: per pax | D35: =B19+C19 -> 0 | E35: =B35*D35 -> 0
A36: Tax free assistance | B36: 50 | C36: per pax | E36: =B36*D36 -> 0
A37: HANDLING CHARGES:
A38: Basic Handling inbound (ARR) | B38: =IF(D24<=5,15.05,IF(B8<=12,20.75,IF(VLOOKUP(B13,Airports!$A$2:$G$4091,7,FALSE)="IT",21.15,26.5))) -> 20.75 | C38: per movement | D38: =D40 -> 24 | E38: =B38*D38/2 -> 249
A39: Basic Handling outbound (DEP) | B39: =IF(D24<=5,15.05,IF(B8<=12,20.75,IF(VLOOKUP(E15,Airports!$A$2:$G$4091,7,FALSE)="IT",21.15,26.5))) -> 20.75 | C39: per movement | D39: =D40 -> 24 | E39: =B39*D39/2 -> 249
A40: Basic Ground Handling (marshalling, chocking, crew airside transfer, pax airside transfer, baggage loading/unloading) | B40: =(B38+B39)/2 -> 20.75 | C40: per turnaround | D40: =ROUNDUP(B$7/1000, 0) -> 24 | E40: =E38+E39 -> 498
...

Sheet Hours
B2: 0.79166667
B3: 0.20833333

Sheet Types
B2: commercial
B3: private
B8: narrow
B9: wide

Sheet Airports
A1: ident | B1: type | C1: name | D1: latitude_deg | E1: longitude_deg | F1: elevation_ft | G1: iso_country | H1: iata_code | I1: longest RW | J1: longest RW width | K1: RW pavement | L1: ident | M1: continent | N1: iso_region | O1: municipality | P1: Time zone | Q1: UTC time offset
A2: ZUBD | B2: medium_airport | C2: Qamdo Bangda Airport | D2: 30.5536 | E2: 97.108299 | F2: 14219 | G2: CN | H2: BPX | I2: =VLOOKUP(A2,[1]ВПП!$C$2:$E$22885,3,) -> 5500 | J2: =VLOOKUP(A2,[1]ВПП!$C$2:$G$22885,5,) -> 45 | K2: =VLOOKUP(A2,[1]ВПП!$C$2:$H$22885,6,) -> concrete | L2: =A2 -> ZUBD | M2: AS | N2: CN-54 | O2: Bangda | P2: Asia/Shanghai | Q2: =VLOOKUP(P2,[1]TimeZones!$B$3:$E$597,4,FALSE) -> +08:00
A3: CN-0046 | B3: medium_airport | C3: Shigatse Air Base | D3: 29.3519 | E3: 89.311401 | F3: 3782 | G3: CN | H3: RKZ | I3: =VLOOKUP(A3,[1]ВПП!$C$2:$E$22885,3,) -> 5000 | J3: =VLOOKUP(A3,[1]ВПП!$C$2:$G$22885,5,) -> 60 | K3: =VLOOKUP(A3,[1]ВПП!$C$2:$H$22885,6,) -> CON | L3: =A3 -> CN-0046 | M3: AS | N3: CN-54 | O3: XigazГЄ | P3: #N/A | Q3: =VLOOKUP(P3,[1]TimeZones!$B$3:$E$597,4,FALSE) -> #N/A
A4: UWLW | B4: medium_airport | C4: Ulyanovsk East Airport | D4: 54.401001 | E4: 48.8027 | F4: 252 | G4: RU | H4: ULY | I4: =VLOOKUP(A4,[1]ВПП!$C$2:$E$22885,3,) -> 5000 | J4: =VLOOKUP(A4,[1]ВПП!$C$2:$G$22885,5,) -> 98 | K4: =VLOOKUP(A4,[1]ВПП!$C$2:$H$22885,6,) -> CON | L4: =A4 -> UWLW | M4: EU | N4: RU-ULY | O4: Cherdakly | P4: Europe/Samara | Q4: =VLOOKUP(P4,[1]TimeZones!$B$3:$E$597,4,FALSE) -> +04:00
A5: FAUP | B5: medium_airport | C5: Pierre Van Ryneveld Airport | D5: -28.399099 | E5: 21.260201 | F5: 2782 | G5: ZA | H5: UTN | I5: =VLOOKUP(A5,[1]ВПП!$C$2:$E$22885,3,) -> 4900 | J5: =VLOOKUP(A5,[1]ВПП!$C$2:$G$22885,5,) -> 60 | K5: =VLOOKUP(A5,[1]ВПП!$C$2:$H$22885,6,) -> ASP | L5: =A5 -> FAUP | M5: AF | N5: ZA-NC | O5: Upington | P5: Africa/Johannesburg | Q5: =VLOOKUP(P5,[1]TimeZones!$B$3:$E$597,4,FALSE) -> +02:00
A6: OTHH | B6: large_airport | C6: Hamad International Airport | D6: 25.273056 | E6: 51.608056 | F6: 13 | G6: QA | H6: DOH | I6: =VLOOKUP(A6,[1]ВПП!$C$2:$E$22885,3,) -> 4850 | J6: =VLOOKUP(A6,[1]ВПП!$C$2:$G$22885,5,) -> 60 | K6: =VLOOKUP(A6,[1]ВПП!$C$2:$H$22885,6,) -> Asphalt | L6: =A6 -> OTHH | M6: AS | N6: QA-DA | O6: Doha | P6: \N | Q6: =VLOOKUP(P6,[1]TimeZones!$B$3:$E$597,4,FALSE) -> #N/A
A7: ZLGM | B7: medium_airport | C7: Golmud Airport | D7: 36.4006 | E7: 94.786102 | F7: 9334 | G7: CN | H7: GOQ | I7: =VLOOKUP(A7,[1]ВПП!$C$2:$E$22885,3,) -> 4800 | J7: =VLOOKUP(A7,[1]ВПП!$C$2:$G$22885,5,) -> 49 | K7: =VLOOKUP(A7,[1]ВПП!$C$2:$H$22885,6,) -> CON | L7: =A7 -> ZLGM | M7: AS | N7: CN-63 | O7: Golmud | P7: Asia/Shanghai | Q7: =VLOOKUP(P7,[1]TimeZones!$B$3:$E$597,4,FALSE) -> +08:00
A8: FVHA | B8: large_airport | C8: Robert Gabriel Mugabe International Airport | D8: -17.931801 | E8: 31.0928 | F8: 4887 | G8: ZW | H8: HRE | I8: =VLOOKUP(A8,[1]ВПП!$C$2:$E$22885,3,) -> 4725 | J8: =VLOOKUP(A8,[1]ВПП!$C$2:$G$22885,5,) -> 46 | K8: =VLOOKUP(A8,[1]ВПП!$C$2:$H$22885,6,) -> ASP | L8: =A8 -> FVHA | M8: AF | N8: ZW-HA | O8: Harare | P8: Africa/Harare | Q8: =VLOOKUP(P8,[1]TimeZones!$B$3:$E$597,4,FALSE) -> +02:00
A9: FZAA | B9: large_airport | C9: Ndjili International Airport | D9: -4.38575 | E9: 15.4446 | F9: 1027 | G9: CD | H9: FIH | I9: =VLOOKUP(A9,[1]ВПП!$C$2:$E$22885,3,) -> 4700 | J9: =VLOOKUP(A9,[1]ВПП!$C$2:$G$22885,5,) -> 60 | K9: =VLOOKUP(A9,[1]ВПП!$C$2:$H$22885,6,) -> CON | L9: =A9 -> FZAA | M9: AF | N9: CD-KN | O9: Kinshasa | P9: Africa/Kinshasa | Q9: =VLOOKUP(P9,[1]TimeZones!$B$3:$E$597,4,FALSE) -> +01:00
A10: FAMM | B10: medium_airport | C10: Mmabatho International Airport | D10: -25.798401 | E10: 25.548 | F10: 4181 | G10: ZA | H10: MBD | I10: =VLOOKUP(A10,[1]ВПП!$C$2:$E$22885,3,) -> 4620 | J10: =VLOOKUP(A10,[1]ВПП!$C$2:$G$22885,5,) -> 45 | K10: =VLOOKUP(A10,[1]ВПП!$C$2:$H$22885,6,) -> ASP | L10: =A10 -> FAMM | M10: AF | N10: ZA-NW | O10: Mafeking | P10: Africa/Johannesburg | Q10: =VLOOKUP(P10,[1]TimeZones!$B$3:$E$597,4,FALSE) -> +02:00
A11: FVWN | B11: medium_airport | C11: Hwange National Park Airport | D11: -18.6299 | E11: 27.021 | F11: 3543 | G11: ZW | H11: HWN | I11: =VLOOKUP(A11,[1]ВПП!$C$2:$E$22885,3,) -> 4600 | J11: =VLOOKUP(A11,[1]ВПП!$C$2:$G$22885,5,) -> 30 | K11: =VLOOKUP(A11,[1]ВПП!$C$2:$H$22885,6,) -> ASP | L11: =A11 -> FVWN | M11: AF | N11: ZW-MN | O11: Hwange | P11: Africa/Harare | Q11: =VLOOKUP(P11,[1]TimeZones!$B$3:$E$597,4,FALSE) -> +02:00
A12: UUBW | B12: large_airport | C12: Zhukovsky International Airport | D12: 55.553299 | E12: 38.150002 | F12: 377 | G12: RU | H12: ZIA | I12: =VLOOKUP(A12,[1]ВПП!$C$2:$E$22885,3,) -> 4600 | J12: =VLOOKUP(A12,[1]ВПП!$C$2:$G$22885,5,) -> 70 | K12: =VLOOKUP(A12,[1]ВПП!$C$2:$H$22885,6,) -> CON | L12: =A12 -> UUBW | M12: EU | N12: RU-MOS | O12: Moscow | P12: Europe/Moscow | Q12: =VLOOKUP(P12,[1]TimeZones!$B$3:$E$597,4,FALSE) -> +03:00
A13: FYWH | B13: large_airport | C13: Hosea Kutako International Airport | D13: -22.4799 | E13: 17.4709 | F13: 5640 | G13: NA | H13: WDH | I13: =VLOOKUP(A13,[1]ВПП!$C$2:$E$22885,3,) -> 4575 | J13: =VLOOKUP(A13,[1]ВПП!$C$2:$G$22885,5,) -> 45 | K13: =VLOOKUP(A13,[1]ВПП!$C$2:$H$22885,6,) -> ASP | L13: =A13 -> FYWH | M13: AF | N13: NA-KH | O13: Windhoek | P13: Africa/Windhoek | Q13: =VLOOKUP(P13,[1]TimeZones!$B$3:$E$597,4,FALSE) -> +02:00
A14: OTBD | B14: medium_airport | C14: Doha International Airport | D14: 25.261101 | E14: 51.565102 | F14: 35 | G14: QA | H14: DIA | I14: =VLOOKUP(A14,[1]ВПП!$C$2:$E$22885,3,) -> 4572 | J14: =VLOOKUP(A14,[1]ВПП!$C$2:$G$22885,5,) -> 46 | K14: =VLOOKUP(A14,[1]ВПП!$C$2:$H$22885,6,) -> ASP | L14: =A14 -> OTBD | M14: AS | N14: QA-DA | O14: Doha | P14: Asia/Qatar | Q14: =VLOOKUP(P14,[1]TimeZones!$B$3:$E$597,4,FALSE) -> +03:00
A15: OMDW | B15: large_airport | C15: Al Maktoum International Airport | D15: 24.896356 | E15: 55.161389 | F15: 114 | G15: AE | H15: DWC | I15: =VLOOKUP(A15,[1]ВПП!$C$2:$E$22885,3,) -> 4500 | J15: =VLOOKUP(A15,[1]ВПП!$C$2:$G$22885,5,) -> 60 | K15: =VLOOKUP(A15,[1]ВПП!$C$2:$H$22885,6,) -> Asphalt | L15: =A15 -> OMDW | M15: AS | N15: AE-DU | O15: Jebel Ali | P15: Asia/Dubai | Q15: =VLOOKUP(P15,[1]TimeZones!$B$3:$E$597,4,FALSE) -> +04:00
A16: UAON | B16: medium_airport | C16: Yubileyniy Airfield | D16: 46.055 | E16: 63.25 | F16: 328 | G16: KZ | I16: =VLOOKUP(A16,[1]ВПП!$C$2:$E$22885,3,) -> 4500 | J16: =VLOOKUP(A16,[1]ВПП!$C$2:$G$22885,5,) -> 84 | K16: =VLOOKUP(A16,[1]ВПП!$C$2:$H$22885,6,) -> asphalt | L16: =A16 -> UAON | M16: AS | N16: KZ-BAY | O16: Baikonur | P16: \N | Q16: =VLOOKUP(P16,[1]TimeZones!$B$3:$E$597,4,FALSE) -> #N/A
A17: ZPPP | B17: large_airport | C17: Kunming Changshui International Airport | D17: 25.101944 | E17: 102.92917 | F17: 6903 | G17: CN | H17: KMG | I17: =VLOOKUP(A17,[1]ВПП!$C$2:$E$22885,3,) -> 4500 | J17: =VLOOKUP(A17,[1]ВПП!$C$2:$G$22885,5,) -> 60 | K17: =VLOOKUP(A17,[1]ВПП!$C$2:$H$22885,6,) -> ASP | L17: =A17 -> ZPPP | M17: AS | N17: CN-53 | O17: Kunming | P17: Asia/Shanghai | Q17: =VLOOKUP(P17,[1]TimeZones!$B$3:$E$597,4,FALSE) -> +08:00
A18: OIBB | B18: medium_airport | C18: Bushehr Airport | D18: 28.944799 | E18: 50.834599 | F18: 68 | G18: IR | H18: BUZ | I18: =VLOOKUP(A18,[1]ВПП!$C$2:$E$22885,3,) -> 4470 | J18: =VLOOKUP(A18,[1]ВПП!$C$2:$G$22885,5,) -> 45 | K18: =VLOOKUP(A18,[1]ВПП!$C$2:$H$22885,6,) -> ASP | L18: =A18 -> OIBB | M18: AS | N18: IR-06 | O18: Bushehr | P18: Asia/Tehran | Q18: =VLOOKUP(P18,[1]TimeZones!$B$3:$E$597,4,FALSE) -> +03:30
A19: OIHS | B19: medium_airport | C19: Hamadan Air Base | D19: 35.211601 | E19: 48.6534 | F19: 5609 | G19: IR | I19: =VLOOKUP(A19,[1]ВПП!$C$2:$E$22885,3,) -> 4458 | J19: =VLOOKUP(A19,[1]ВПП!$C$2:$G$22885,5,) -> 45 | K19: =VLOOKUP(A19,[1]ВПП!$C$2:$H$22885,6,) -> ASP | L19: =A19 -> OIHS | M19: AS | N19: IR-24 | O19: Hamadan | P19: \N | Q19: =VLOOKUP(P19,[1]TimeZones!$B$3:$E$597,4,FALSE) -> #N/A
A20: OMDB | B20: large_airport | C20: Dubai International Airport | D20: 25.2528 | E20: 55.364399 | F20: 62 | G20: AE | H20: DXB | I20: =VLOOKUP(A20,[1]ВПП!$C$2:$E$22885,3,) -> 4447 | J20: =VLOOKUP(A20,[1]ВПП!$C$2:$G$22885,5,) -> 60 | K20: =VLOOKUP(A20,[1]ВПП!$C$2:$H$22885,6,) -> ASP | L20: =A20 -> OMDB | M20: AS | N20: AE-DU | O20: Dubai | P20: Asia/Dubai | Q20: =VLOOKUP(P20,[1]TimeZones!$B$3:$E$597,4,FALSE) -> +04:00
A21: VIDP | B21: large_airport | C21: Indira Gandhi International Airport | D21: 28.5665 | E21: 77.103104 | F21: 777 | G21: IN | H21: DEL | I21: =VLOOKUP(A21,[1]ВПП!$C$2:$E$22885,3,) -> 4430 | J21: =VLOOKUP(A21,[1]ВПП!$C$2:$G$22885,5,) -> 60 | K21: =VLOOKUP(A21,[1]ВПП!$C$2:$H$22885,6,) -> paved | L21: =A21 -> VIDP | M21: AS | N21: IN-DL | O21: New Delhi | P21: Asia/Calcutta | Q21: =VLOOKUP(P21,[1]TimeZones!$B$3:$E$597,4,FALSE) -> +05:30
A22: FAOR | B22: large_airport | C22: OR Tambo International Airport | D22: -26.1392 | E22: 28.246 | F22: 5558 | G22: ZA | H22: JNB | I22: =VLOOKUP(A22,[1]ВПП!$C$2:$E$22885,3,) -> 4418 | J22: =VLOOKUP(A22,[1]ВПП!$C$2:$G$22885,5,) -> 61 | K22: =VLOOKUP(A22,[1]ВПП!$C$2:$H$22885,6,) -> ASP | L22: =A22 -> FAOR | M22: AF | N22: ZA-GT | O22: Johannesburg | P22: Africa/Johannesburg | Q22: =VLOOKUP(P22,[1]TimeZones!$B$3:$E$597,4,FALSE) -> +02:00
A23: OIFM | B23: medium_airport | C23: Esfahan Shahid Beheshti International Airport | D23: 32.750801 | E23: 51.861301 | F23: 5059 | G23: IR | H23: IFN | I23: =VLOOKUP(A23,[1]ВПП!$C$2:$E$22885,3,) -> 4397 | J23: =VLOOKUP(A23,[1]ВПП!$C$2:$G$22885,5,) -> 45 | K23: =VLOOKUP(A23,[1]ВПП!$C$2:$H$22885,6,) -> ASP | L23: =A23 -> OIFM | M23: AS | N23: IR-04 | O23: Isfahan | P23: Asia/Tehran | Q23: =VLOOKUP(P23,[1]TimeZones!$B$3:$E$597,4,FALSE) -> +03:30
A24: UAAA | B24: large_airport | C24: Almaty Airport | D24: 43.3521 | E24: 77.040497 | F24: 2234 | G24: KZ | H24: ALA | I24: =VLOOKUP(A24,[1]ВПП!$C$2:$E$22885,3,) -> 4397 | J24: =VLOOKUP(A24,[1]ВПП!$C$2:$G$22885,5,) -> 45 | K24: =VLOOKUP(A24,[1]ВПП!$C$2:$H$22885,6,) -> ASP | L24: =A24 -> UAAA | M24: AS | N24: KZ-ALM | O24: Almaty | P24: Asia/Qyzylorda | Q24: =VLOOKUP(P24,[1]TimeZones!$B$3:$E$597,4,FALSE) -> +05:00
A25: OISS | B25: large_airport | C25: Shiraz Shahid Dastghaib International Airport | D25: 29.5392 | E25: 52.589802 | F25: 4927 | G25: IR | H25: SYZ | I25: =VLOOKUP(A25,[1]ВПП!$C$2:$E$22885,3,) -> 4372 | J25: =VLOOKUP(A25,[1]ВПП!$C$2:$G$22885,5,) -> 45 | K25: =VLOOKUP(A25,[1]ВПП!$C$2:$H$22885,6,) -> ASP | L25: =A25 -> OISS | M25: AS | N25: IR-14 | O25: Shiraz | P25: Asia/Tehran | Q25: =VLOOKUP(P25,[1]TimeZones!$B$3:$E$597,4,FALSE) -> +03:30
A26: VYMD | B26: large_airport | C26: Mandalay International Airport | D26: 21.7022 | E26: 95.977898 | F26: 300 | G26: MM | H26: MDL | I26: =VLOOKUP(A26,[1]ВПП!$C$2:$E$22885,3,) -> 4268 | J26: =VLOOKUP(A26,[1]ВПП!$C$2:$G$22885,5,) -> 61 | K26: =VLOOKUP(A26,[1]ВПП!$C$2:$H$22885,6,) -> CON | L26: =A26 -> VYMD | M26: AS | N26: MM-04 | O26: Mandalay | P26: Asia/Rangoon | Q26: =VLOOKUP(P26,[1]TimeZones!$B$3:$E$597,4,FALSE) -> +06:30
A27: CYYC | B27: large_airport | C27: Calgary International Airport | D27: 51.113899 | E27: -114.02 | F27: 3557 | G27: CA | H27: YYC | I27: =VLOOKUP(A27,[1]ВПП!$C$2:$E$22885,3,) -> 4267 | J27: =VLOOKUP(A27,[1]ВПП!$C$2:$G$22885,5,) -> 61 | K27: =VLOOKUP(A27,[1]ВПП!$C$2:$H$22885,6,) -> Concrete | L27: =A27 -> CYYC | M27: NA | N27: CA-AB | O27: Calgary | P27: America/Edmonton | Q27: =VLOOKUP(P27,[1]TimeZones!$B$3:$E$597,4,FALSE) -> −07:00
A28: OIZH | B28: medium_airport | C28: Zahedan International Airport | D28: 29.4757 | E28: 60.9062 | F28: 4564 | G28: IR | H28: ZAH | I28: =VLOOKUP(A28,[1]ВПП!$C$2:$E$22885,3,) -> 4265 | J28: =VLOOKUP(A28,[1]ВПП!$C$2:$G$22885,5,) -> 45 | K28: =VLOOKUP(A28,[1]ВПП!$C$2:$H$22885,6,) -> ASP | L28: =A28 -> OIZH | M28: AS | N28: IR-13 | O28: Zahedan | P28: Asia/Tehran | Q28: =VLOOKUP(P28,[1]TimeZones!$B$3:$E$597,4,FALSE) -> +03:30
A29: VOHS | B29: large_airport | C29: Rajiv Gandhi International Airport | D29: 17.231318 | E29: 78.429855 | F29: 2024 | G29: IN | H29: HYD | I29: =VLOOKUP(A29,[1]ВПП!$C$2:$E$22885,3,) -> 4260 | J29: =VLOOKUP(A29,[1]ВПП!$C$2:$G$22885,5,) -> 60 | K29: =VLOOKUP(A29,[1]ВПП!$C$2:$H$22885,6,) -> ASP | L29: =A29 -> VOHS | M29: AS | N29: IN-TG | O29: Hyderabad | P29: \N | Q29: =VLOOKUP(P29,[1]TimeZones!$B$3:$E$597,4,FALSE) -> #N/A
A30: OIIE | B30: large_airport | C30: Imam Khomeini International Airport | D30: 35.4161 | E30: 51.152199 | F30: 3305 | G30: IR | H30: IKA | I30: =VLOOKUP(A30,[1]ВПП!$C$2:$E$22885,3,) -> 4249 | J30: =VLOOKUP(A30,[1]ВПП!$C$2:$G$22885,5,) -> 45 | K30: =VLOOKUP(A30,[1]ВПП!$C$2:$H$22885,6,) -> ASP | L30: =A30 -> OIIE | M30: AS | N30: IR-07 | O30: Tehran | P30: Asia/Tehran | Q30: =VLOOKUP(P30,[1]TimeZones!$B$3:$E$597,4,FALSE) -> +03:30
A31: ORER | B31: medium_airport | C31: Erbil International Airport | D31: 36.237598 | E31: 43.9632 | F31: 1341 | G31: IQ | H31: EBL | I31: =VLOOKUP(A31,[1]ВПП!$C$2:$E$22885,3,) -> 4234 | J31: =VLOOKUP(A31,[1]ВПП!$C$2:$G$22885,5,) -> 69 | K31: =VLOOKUP(A31,[1]ВПП!$C$2:$H$22885,6,) -> U | L31: =A31 -> ORER | M31: AS | N31: IQ-AR | O31: Arbil | P31: Asia/Baghdad | Q31: =VLOOKUP(P31,[1]TimeZones!$B$3:$E$597,4,FALSE) -> +03:00
A32: OIKQ | B32: medium_airport | C32: Dayrestan Airport | D32: 26.754601 | E32: 55.902401 | F32: 45 | G32: IR | I32: =VLOOKUP(A32,[1]ВПП!$C$2:$E$22885,3,) -> 4226 | J32: =VLOOKUP(A32,[1]ВПП!$C$2:$G$22885,5,) -> 45 | K32: =VLOOKUP(A32,[1]ВПП!$C$2:$H$22885,6,) -> ASP | L32: =A32 -> OIKQ | M32: AS | N32: IR-23 | P32: Asia/Tehran | Q32: =VLOOKUP(P32,[1]TimeZones!$B$3:$E$597,4,FALSE) -> +03:30
A33: LFPG | B33: large_airport | C33: Charles de Gaulle International Airport | D33: 49.012798 | E33: 2.55 | F33: 392 | G33: FR | H33: CDG | I33: =VLOOKUP(A33,[1]ВПП!$C$2:$E$22885,3,) -> 4215 | J33: =VLOOKUP(A33,[1]ВПП!$C$2:$G$22885,5,) -> 45 | K33: =VLOOKUP(A33,[1]ВПП!$C$2:$H$22885,6,) -> ASP | L33: =A33 -> LFPG | M33: EU | N33: FR-IDF | O33: Paris | P33: Europe/Paris | Q33: =VLOOKUP(P33,[1]TimeZones!$B$3:$E$597,4,FALSE) -> +01:00
A34: OERK | B34: large_airport | C34: King Khaled International Airport | D34: 24.9576 | E34: 46.698799 | F34: 2049 | G34: SA | H34: RUH | I34: =VLOOKUP(A34,[1]ВПП!$C$2:$E$22885,3,) -> 4205 | J34: =VLOOKUP(A34,[1]ВПП!$C$2:$G$22885,5,) -> 60 | K34: =VLOOKUP(A34,[1]ВПП!$C$2:$H$22885,6,) -> ASP | L34: =A34 -> OERK | M34: AS | N34: SA-01 | O34: Riyadh | P34: Asia/Riyadh | Q34: =VLOOKUP(P34,[1]TimeZones!$B$3:$E$597,4,FALSE) -> +03:00
A35: MMTO | B35: medium_airport | C35: Licenciado Adolfo Lopez Mateos International Airport | D35: 19.337099 | E35: -99.566002 | F35: 8466 | G35: MX | H35: TLC | I35: =VLOOKUP(A35,[1]ВПП!$C$2:$E$22885,3,) -> 4200 | J35: =VLOOKUP(A35,[1]ВПП!$C$2:$G$22885,5,) -> 45 | K35: =VLOOKUP(A35,[1]ВПП!$C$2:$H$22885,6,) -> ASP | L35: =A35 -> MMTO | M35: NA | N35: MX-MEX | O35: Toluca | P35: America/Mexico_City | Q35: =VLOOKUP(P35,[1]TimeZones!$B$3:$E$597,4,FALSE) -> −06:00
A36: SPJL | B36: medium_airport | C36: Inca Manco Capac International Airport | D36: -15.4671 | E36: -70.158203 | F36: 12552 | G36: PE | H36: JUL | I36: =VLOOKUP(A36,[1]ВПП!$C$2:$E$22885,3,) -> 4200 | J36: =VLOOKUP(A36,[1]ВПП!$C$2:$G$22885,5,) -> 46 | K36: =VLOOKUP(A36,[1]ВПП!$C$2:$H$22885,6,) -> ASP | L36: =A36 -> SPJL | M36: SA | N36: PE-PUN | O36: Juliaca | P36: America/Lima | Q36: =VLOOKUP(P36,[1]TimeZones!$B$3:$E$597,4,FALSE) -> −05:00
A37: UAFM | B37: large_airport | C37: Manas International Airport | D37: 43.061298 | E37: 74.4776 | F37: 2058 | G37: KG | H37: FRU | I37: =VLOOKUP(A37,[1]ВПП!$C$2:$E$22885,3,) -> 4200 | J37: =VLOOKUP(A37,[1]ВПП!$C$2:$G$22885,5,) -> 55 | K37: =VLOOKUP(A37,[1]ВПП!$C$2:$H$22885,6,) -> CON | L37: =A37 -> UAFM | M37: AS | N37: KG-C | O37: Bishkek | P37: Asia/Bishkek | Q37: =VLOOKUP(P37,[1]TimeZones!$B$3:$E$597,4,FALSE) -> +06:00
A38: ZUDC | B38: medium_airport | C38: Daocheng Yading Airport | D38: 29.323056 | E38: 100.05333 | F38: 14472 | G38: CN | H38: DCY | I38: =VLOOKUP(A38,[1]ВПП!$C$2:$E$22885,3,) -> 4200 | J38: =VLOOKUP(A38,[1]ВПП!$C$2:$G$22885,5,) -> 45 | K38: =VLOOKUP(A38,[1]ВПП!$C$2:$H$22885,6,) -> CON | L38: =A38 -> ZUDC | M38: AS | N38: CN-51 | O38: Daocheng County | P38: Asia/Shanghai | Q38: =VLOOKUP(P38,[1]TimeZones!$B$3:$E$597,4,FALSE) -> +08:00
A39: HL69 | B39: small_airport | C39: Al Jufra Airport | D39: 29.198099 | E39: 16.000999 | F39: 846 | G39: LY | I39: =VLOOKUP(A39,[1]ВПП!$C$2:$E$22885,3,) -> 4185 | J39: =VLOOKUP(A39,[1]ВПП!$C$2:$G$22885,5,) -> 60 | K39: =VLOOKUP(A39,[1]ВПП!$C$2:$H$22885,6,) -> CON | L39: =A39 -> HL69 | M39: AF | N39: LY-JU | P39: #N/A | Q39: =VLOOKUP(P39,[1]TimeZones!$B$3:$E$597,4,FALSE) -> #N/A
A40: LEMD | B40: large_airport | C40: Adolfo SuГЎrez MadridвЂ“Barajas Airport | D40: 40.471926 | E40: -3.56264 | F40: 1998 | G40: ES | H40: MAD | I40: =VLOOKUP(A40,[1]ВПП!$C$2:$E$22885,3,) -> 4179 | J40: =VLOOKUP(A40,[1]ВПП!$C$2:$G$22885,5,) -> 60 | K40: =VLOOKUP(A40,[1]ВПП!$C$2:$H$22885,6,) -> ASP | L40: =A40 -> LEMD | M40: EU | N40: ES-M | O40: Madrid | P40: Europe/Madrid | Q40: =VLOOKUP(P40,[1]TimeZones!$B$3:$E$597,4,FALSE) -> +01:00
...
